BEGIN:VCALENDAR
VERSION:2.0
PRODID:-//Huon Valley Golf Club - ECPv6.15.12.1//NONSGML v1.0//EN
CALSCALE:GREGORIAN
METHOD:PUBLISH
X-ORIGINAL-URL:https://hvgolfclub.com.au
X-WR-CALDESC:Events for Huon Valley Golf Club
REFRESH-INTERVAL;VALUE=DURATION:PT1H
X-Robots-Tag:noindex
X-PUBLISHED-TTL:PT1H
BEGIN:VTIMEZONE
TZID:Australia/Hobart
BEGIN:STANDARD
TZOFFSETFROM:+1100
TZOFFSETTO:+1000
TZNAME:AEST
DTSTART:20190406T160000
END:STANDARD
BEGIN:DAYLIGHT
TZOFFSETFROM:+1000
TZOFFSETTO:+1100
TZNAME:AEDT
DTSTART:20191005T160000
END:DAYLIGHT
BEGIN:STANDARD
TZOFFSETFROM:+1100
TZOFFSETTO:+1000
TZNAME:AEST
DTSTART:20200404T160000
END:STANDARD
BEGIN:DAYLIGHT
TZOFFSETFROM:+1000
TZOFFSETTO:+1100
TZNAME:AEDT
DTSTART:20201003T160000
END:DAYLIGHT
BEGIN:STANDARD
TZOFFSETFROM:+1100
TZOFFSETTO:+1000
TZNAME:AEST
DTSTART:20210403T160000
END:STANDARD
BEGIN:DAYLIGHT
TZOFFSETFROM:+1000
TZOFFSETTO:+1100
TZNAME:AEDT
DTSTART:20211002T160000
END:DAYLIGHT
END:VTIMEZONE
BEGIN:VEVENT
DTSTART;VALUE=DATE:20200602
DTEND;VALUE=DATE:20200603
DTSTAMP:20260423T034428
CREATED:20200113T092413Z
LAST-MODIFIED:20200113T092413Z
UID:5194-1591056000-1591142399@hvgolfclub.com.au
SUMMARY:Ladies Silver Spoon Final Stroke
DESCRIPTION:
URL:https://hvgolfclub.com.au/event/ladies-silver-spoon-final-stroke/
END:VEVENT
BEGIN:VEVENT
DTSTART;VALUE=DATE:20200603
DTEND;VALUE=DATE:20200604
DTSTAMP:20260423T034428
CREATED:20200113T092436Z
LAST-MODIFIED:20200113T092436Z
UID:5196-1591142400-1591228799@hvgolfclub.com.au
SUMMARY:Stableford
DESCRIPTION:
URL:https://hvgolfclub.com.au/event/stableford-429/
END:VEVENT
BEGIN:VEVENT
DTSTART;VALUE=DATE:20200606
DTEND;VALUE=DATE:20200607
DTSTAMP:20260423T034428
CREATED:20200113T092454Z
LAST-MODIFIED:20200113T092454Z
UID:5198-1591401600-1591487999@hvgolfclub.com.au
SUMMARY:Monthly Medal
DESCRIPTION:
URL:https://hvgolfclub.com.au/event/monthly-medal-14/
END:VEVENT
BEGIN:VEVENT
DTSTART;VALUE=DATE:20200608
DTEND;VALUE=DATE:20200609
DTSTAMP:20260423T034428
CREATED:20200113T092516Z
LAST-MODIFIED:20200113T092516Z
UID:5200-1591574400-1591660799@hvgolfclub.com.au
SUMMARY:Queen's Birthday
DESCRIPTION:
URL:https://hvgolfclub.com.au/event/queens-birthday-2/
END:VEVENT
BEGIN:VEVENT
DTSTART;VALUE=DATE:20200609
DTEND;VALUE=DATE:20200610
DTSTAMP:20260423T034428
CREATED:20200113T092534Z
LAST-MODIFIED:20200113T092534Z
UID:5202-1591660800-1591747199@hvgolfclub.com.au
SUMMARY:Ladies Eclectic
DESCRIPTION:
URL:https://hvgolfclub.com.au/event/ladies-eclectic-9/
END:VEVENT
BEGIN:VEVENT
DTSTART;VALUE=DATE:20200610
DTEND;VALUE=DATE:20200611
DTSTAMP:20260423T034428
CREATED:20200113T092552Z
LAST-MODIFIED:20200113T092552Z
UID:5204-1591747200-1591833599@hvgolfclub.com.au
SUMMARY:Stroke
DESCRIPTION:
URL:https://hvgolfclub.com.au/event/stroke-103/
END:VEVENT
BEGIN:VEVENT
DTSTART;VALUE=DATE:20200613
DTEND;VALUE=DATE:20200614
DTSTAMP:20260423T034428
CREATED:20200113T092612Z
LAST-MODIFIED:20200113T092612Z
UID:5206-1592006400-1592092799@hvgolfclub.com.au
SUMMARY:Aggregate Stableford
DESCRIPTION:
URL:https://hvgolfclub.com.au/event/aggregate-stableford/
END:VEVENT
BEGIN:VEVENT
DTSTART;VALUE=DATE:20200615
DTEND;VALUE=DATE:20200616
DTSTAMP:20260423T034428
CREATED:20200113T092631Z
LAST-MODIFIED:20200113T092631Z
UID:5208-1592179200-1592265599@hvgolfclub.com.au
SUMMARY:Southern Vets
DESCRIPTION:
URL:https://hvgolfclub.com.au/event/southern-vets-4/
END:VEVENT
BEGIN:VEVENT
DTSTART;VALUE=DATE:20200616
DTEND;VALUE=DATE:20200617
DTSTAMP:20260423T034428
CREATED:20200113T092651Z
LAST-MODIFIED:20200113T092651Z
UID:5210-1592265600-1592351999@hvgolfclub.com.au
SUMMARY:Ladies 3rd Monthly Medal Stroke
DESCRIPTION:
URL:https://hvgolfclub.com.au/event/ladies-3rd-monthly-medal-stroke/
END:VEVENT
BEGIN:VEVENT
DTSTART;VALUE=DATE:20200617
DTEND;VALUE=DATE:20200618
DTSTAMP:20260423T034428
CREATED:20200113T092706Z
LAST-MODIFIED:20200113T092706Z
UID:5212-1592352000-1592438399@hvgolfclub.com.au
SUMMARY:Stableford
DESCRIPTION:
URL:https://hvgolfclub.com.au/event/stableford-430/
END:VEVENT
BEGIN:VEVENT
DTSTART;VALUE=DATE:20200620
DTEND;VALUE=DATE:20200621
DTSTAMP:20260423T034428
CREATED:20200113T092725Z
LAST-MODIFIED:20200113T092725Z
UID:5214-1592611200-1592697599@hvgolfclub.com.au
SUMMARY:Stableford
DESCRIPTION:
URL:https://hvgolfclub.com.au/event/stableford-431/
END:VEVENT
BEGIN:VEVENT
DTSTART;VALUE=DATE:20200623
DTEND;VALUE=DATE:20200624
DTSTAMP:20260423T034428
CREATED:20200113T092743Z
LAST-MODIFIED:20200113T092743Z
UID:5216-1592870400-1592956799@hvgolfclub.com.au
SUMMARY:Ladies Stableford
DESCRIPTION:
URL:https://hvgolfclub.com.au/event/ladies-stableford-53/
END:VEVENT
BEGIN:VEVENT
DTSTART;VALUE=DATE:20200624
DTEND;VALUE=DATE:20200625
DTSTAMP:20260423T034428
CREATED:20200113T092759Z
LAST-MODIFIED:20200113T092759Z
UID:5218-1592956800-1593043199@hvgolfclub.com.au
SUMMARY:Stroke
DESCRIPTION:
URL:https://hvgolfclub.com.au/event/stroke-104/
END:VEVENT
BEGIN:VEVENT
DTSTART;VALUE=DATE:20200627
DTEND;VALUE=DATE:20200628
DTSTAMP:20260423T034428
CREATED:20200113T092819Z
LAST-MODIFIED:20200113T092819Z
UID:5220-1593216000-1593302399@hvgolfclub.com.au
SUMMARY:2 Person Ambrose Stroke
DESCRIPTION:
URL:https://hvgolfclub.com.au/event/2-person-ambrose-stroke/
END:VEVENT
BEGIN:VEVENT
DTSTART;VALUE=DATE:20200630
DTEND;VALUE=DATE:20200701
DTSTAMP:20260423T034428
CREATED:20200113T092836Z
LAST-MODIFIED:20200113T092836Z
UID:5222-1593475200-1593561599@hvgolfclub.com.au
SUMMARY:Ladies Par
DESCRIPTION:
URL:https://hvgolfclub.com.au/event/ladies-par-11/
END:VEVENT
END:VCALENDAR