BEGIN:VCALENDAR
VERSION:2.0
PRODID:-//Huon Valley Golf Club - ECPv6.15.12.1//NONSGML v1.0//EN
CALSCALE:GREGORIAN
METHOD:PUBLISH
X-WR-CALNAME:Huon Valley Golf Club
X-ORIGINAL-URL:https://hvgolfclub.com.au
X-WR-CALDESC:Events for Huon Valley Golf Club
REFRESH-INTERVAL;VALUE=DURATION:PT1H
X-Robots-Tag:noindex
X-PUBLISHED-TTL:PT1H
BEGIN:VTIMEZONE
TZID:Australia/Hobart
BEGIN:STANDARD
TZOFFSETFROM:+1100
TZOFFSETTO:+1000
TZNAME:AEST
DTSTART:20200404T160000
END:STANDARD
BEGIN:DAYLIGHT
TZOFFSETFROM:+1000
TZOFFSETTO:+1100
TZNAME:AEDT
DTSTART:20201003T160000
END:DAYLIGHT
BEGIN:STANDARD
TZOFFSETFROM:+1100
TZOFFSETTO:+1000
TZNAME:AEST
DTSTART:20210403T160000
END:STANDARD
BEGIN:DAYLIGHT
TZOFFSETFROM:+1000
TZOFFSETTO:+1100
TZNAME:AEDT
DTSTART:20211002T160000
END:DAYLIGHT
BEGIN:STANDARD
TZOFFSETFROM:+1100
TZOFFSETTO:+1000
TZNAME:AEST
DTSTART:20220402T160000
END:STANDARD
BEGIN:DAYLIGHT
TZOFFSETFROM:+1000
TZOFFSETTO:+1100
TZNAME:AEDT
DTSTART:20221001T160000
END:DAYLIGHT
END:VTIMEZONE
BEGIN:VEVENT
DTSTART;VALUE=DATE:20210901
DTEND;VALUE=DATE:20210902
DTSTAMP:20260423T173535
CREATED:20201230T091215Z
LAST-MODIFIED:20201230T091215Z
UID:5958-1630454400-1630540799@hvgolfclub.com.au
SUMMARY:Stroke
DESCRIPTION:
URL:https://hvgolfclub.com.au/event/stroke-134/
CATEGORIES:Mens
END:VEVENT
BEGIN:VEVENT
DTSTART;VALUE=DATE:20210903
DTEND;VALUE=DATE:20210904
DTSTAMP:20260423T173535
CREATED:20211223T001836Z
LAST-MODIFIED:20211223T001836Z
UID:6768-1630627200-1630713599@hvgolfclub.com.au
SUMMARY:Monthly Medal
DESCRIPTION:
URL:https://hvgolfclub.com.au/event/monthly-medal-36/
CATEGORIES:Mens
END:VEVENT
BEGIN:VEVENT
DTSTART;VALUE=DATE:20210904
DTEND;VALUE=DATE:20210905
DTSTAMP:20260423T173535
CREATED:20201230T091256Z
LAST-MODIFIED:20201230T091256Z
UID:5960-1630713600-1630799999@hvgolfclub.com.au
SUMMARY:Monthly Medal Matchplay 1st Round Completed
DESCRIPTION:
URL:https://hvgolfclub.com.au/event/monthly-medal-matchplay-1st-round-completed/
CATEGORIES:Mens
END:VEVENT
BEGIN:VEVENT
DTSTART;VALUE=DATE:20210905
DTEND;VALUE=DATE:20210906
DTSTAMP:20260423T173535
CREATED:20201230T091328Z
LAST-MODIFIED:20201230T091328Z
UID:5962-1630800000-1630886399@hvgolfclub.com.au
SUMMARY:Fathers Day
DESCRIPTION:
URL:https://hvgolfclub.com.au/event/fathers-day-2/
CATEGORIES:Public Holiday
END:VEVENT
BEGIN:VEVENT
DTSTART;VALUE=DATE:20210907
DTEND;VALUE=DATE:20210908
DTSTAMP:20260423T173535
CREATED:20201230T091358Z
LAST-MODIFIED:20201230T091358Z
UID:5964-1630972800-1631059199@hvgolfclub.com.au
SUMMARY:Ladies Stableford
DESCRIPTION:
URL:https://hvgolfclub.com.au/event/ladies-stableford-78/
CATEGORIES:Ladies
END:VEVENT
BEGIN:VEVENT
DTSTART;VALUE=DATE:20210908
DTEND;VALUE=DATE:20210909
DTSTAMP:20260423T173535
CREATED:20201230T091429Z
LAST-MODIFIED:20201230T091429Z
UID:5966-1631059200-1631145599@hvgolfclub.com.au
SUMMARY:Stableford
DESCRIPTION:
URL:https://hvgolfclub.com.au/event/stableford-473/
CATEGORIES:Mens
END:VEVENT
BEGIN:VEVENT
DTSTART;VALUE=DATE:20210911
DTEND;VALUE=DATE:20210912
DTSTAMP:20260423T173535
CREATED:20201230T091458Z
LAST-MODIFIED:20201230T091458Z
UID:5968-1631318400-1631404799@hvgolfclub.com.au
SUMMARY:AGM Stableford Shotgun Start 8:30 for 9:00
DESCRIPTION:
URL:https://hvgolfclub.com.au/event/agm-stableford-shotgun-start-830-for-900-2/
CATEGORIES:Mens
END:VEVENT
BEGIN:VEVENT
DTSTART;VALUE=DATE:20210912
DTEND;VALUE=DATE:20210913
DTSTAMP:20260423T173535
CREATED:20201230T091518Z
LAST-MODIFIED:20201230T091518Z
UID:5970-1631404800-1631491199@hvgolfclub.com.au
SUMMARY:RHL Roberts Memorial Trophy - Pittwater
DESCRIPTION:
URL:https://hvgolfclub.com.au/event/rhl-roberts-memorial-trophy-pittwater/
END:VEVENT
BEGIN:VEVENT
DTSTART;VALUE=DATE:20210913
DTEND;VALUE=DATE:20210914
DTSTAMP:20260423T173535
CREATED:20201230T091542Z
LAST-MODIFIED:20201230T091542Z
UID:5972-1631491200-1631577599@hvgolfclub.com.au
SUMMARY:Southern Vets
DESCRIPTION:
URL:https://hvgolfclub.com.au/event/southern-vets-13/
END:VEVENT
BEGIN:VEVENT
DTSTART;VALUE=DATE:20210914
DTEND;VALUE=DATE:20210915
DTSTAMP:20260423T173535
CREATED:20201230T091609Z
LAST-MODIFIED:20201230T091609Z
UID:5974-1631577600-1631663999@hvgolfclub.com.au
SUMMARY:Ladies Stableford
DESCRIPTION:
URL:https://hvgolfclub.com.au/event/ladies-stableford-79/
CATEGORIES:Ladies
END:VEVENT
BEGIN:VEVENT
DTSTART;VALUE=DATE:20210915
DTEND;VALUE=DATE:20210916
DTSTAMP:20260423T173535
CREATED:20201230T091640Z
LAST-MODIFIED:20201230T091640Z
UID:5976-1631664000-1631750399@hvgolfclub.com.au
SUMMARY:Stroke
DESCRIPTION:
URL:https://hvgolfclub.com.au/event/stroke-135/
CATEGORIES:Mens
END:VEVENT
BEGIN:VEVENT
DTSTART;VALUE=DATE:20210918
DTEND;VALUE=DATE:20210919
DTSTAMP:20260423T173535
CREATED:20201230T091711Z
LAST-MODIFIED:20201230T091711Z
UID:5978-1631923200-1632009599@hvgolfclub.com.au
SUMMARY:Stroke Matchplay 2nd Round Completed
DESCRIPTION:
URL:https://hvgolfclub.com.au/event/stroke-matchplay-2nd-round-completed/
CATEGORIES:Mens
END:VEVENT
BEGIN:VEVENT
DTSTART;VALUE=DATE:20210919
DTEND;VALUE=DATE:20210920
DTSTAMP:20260423T173535
CREATED:20201230T091731Z
LAST-MODIFIED:20201230T091731Z
UID:5980-1632009600-1632095999@hvgolfclub.com.au
SUMMARY:RHL Roberts Memorial Trophy Final - KBGC
DESCRIPTION:
URL:https://hvgolfclub.com.au/event/rhl-roberts-memorial-trophy-final-kbgc/
END:VEVENT
BEGIN:VEVENT
DTSTART;VALUE=DATE:20210921
DTEND;VALUE=DATE:20210922
DTSTAMP:20260423T173535
CREATED:20201230T091801Z
LAST-MODIFIED:20201230T091801Z
UID:5982-1632182400-1632268799@hvgolfclub.com.au
SUMMARY:Ladies Stableford
DESCRIPTION:
URL:https://hvgolfclub.com.au/event/ladies-stableford-80/
CATEGORIES:Ladies
END:VEVENT
BEGIN:VEVENT
DTSTART;VALUE=DATE:20210922
DTEND;VALUE=DATE:20210923
DTSTAMP:20260423T173535
CREATED:20201230T091823Z
LAST-MODIFIED:20201230T091823Z
UID:5984-1632268800-1632355199@hvgolfclub.com.au
SUMMARY:Stableford
DESCRIPTION:
URL:https://hvgolfclub.com.au/event/stableford-474/
CATEGORIES:Mens
END:VEVENT
BEGIN:VEVENT
DTSTART;VALUE=DATE:20210925
DTEND;VALUE=DATE:20210926
DTSTAMP:20260423T173535
CREATED:20201230T091845Z
LAST-MODIFIED:20201230T091845Z
UID:5986-1632528000-1632614399@hvgolfclub.com.au
SUMMARY:AFL Grand Final 2 Person Ambrose - 9.00 for 9.30
DESCRIPTION:
URL:https://hvgolfclub.com.au/event/afl-grand-final-2-person-ambrose-9-00-for-9-30/
CATEGORIES:Mens
END:VEVENT
BEGIN:VEVENT
DTSTART;VALUE=DATE:20210928
DTEND;VALUE=DATE:20210929
DTSTAMP:20260423T173535
CREATED:20201230T091908Z
LAST-MODIFIED:20201230T091908Z
UID:5988-1632787200-1632873599@hvgolfclub.com.au
SUMMARY:Ladies Eclectic
DESCRIPTION:
URL:https://hvgolfclub.com.au/event/ladies-eclectic-13/
CATEGORIES:Ladies
END:VEVENT
BEGIN:VEVENT
DTSTART;VALUE=DATE:20210929
DTEND;VALUE=DATE:20210930
DTSTAMP:20260423T173535
CREATED:20201230T091929Z
LAST-MODIFIED:20201230T091929Z
UID:5990-1632873600-1632959999@hvgolfclub.com.au
SUMMARY:Stroke
DESCRIPTION:
URL:https://hvgolfclub.com.au/event/stroke-136/
CATEGORIES:Mens
END:VEVENT
BEGIN:VEVENT
DTSTART;VALUE=DATE:20210930
DTEND;VALUE=DATE:20211001
DTSTAMP:20260423T173535
CREATED:20201230T091952Z
LAST-MODIFIED:20201230T091952Z
UID:5992-1632960000-1633046399@hvgolfclub.com.au
SUMMARY:Huon Vets
DESCRIPTION:
URL:https://hvgolfclub.com.au/event/huon-vets-21/
END:VEVENT
END:VCALENDAR