BEGIN:VCALENDAR
VERSION:2.0
PRODID:-//Huon Valley Golf Club - ECPv6.15.12.1//NONSGML v1.0//EN
CALSCALE:GREGORIAN
METHOD:PUBLISH
X-WR-CALNAME:Huon Valley Golf Club
X-ORIGINAL-URL:https://hvgolfclub.com.au
X-WR-CALDESC:Events for Huon Valley Golf Club
REFRESH-INTERVAL;VALUE=DURATION:PT1H
X-Robots-Tag:noindex
X-PUBLISHED-TTL:PT1H
BEGIN:VTIMEZONE
TZID:Australia/Hobart
BEGIN:STANDARD
TZOFFSETFROM:+1100
TZOFFSETTO:+1000
TZNAME:AEST
DTSTART:20210403T160000
END:STANDARD
BEGIN:DAYLIGHT
TZOFFSETFROM:+1000
TZOFFSETTO:+1100
TZNAME:AEDT
DTSTART:20211002T160000
END:DAYLIGHT
BEGIN:STANDARD
TZOFFSETFROM:+1100
TZOFFSETTO:+1000
TZNAME:AEST
DTSTART:20220402T160000
END:STANDARD
BEGIN:DAYLIGHT
TZOFFSETFROM:+1000
TZOFFSETTO:+1100
TZNAME:AEDT
DTSTART:20221001T160000
END:DAYLIGHT
BEGIN:STANDARD
TZOFFSETFROM:+1100
TZOFFSETTO:+1000
TZNAME:AEST
DTSTART:20230401T160000
END:STANDARD
BEGIN:DAYLIGHT
TZOFFSETFROM:+1000
TZOFFSETTO:+1100
TZNAME:AEDT
DTSTART:20230930T160000
END:DAYLIGHT
END:VTIMEZONE
BEGIN:VEVENT
DTSTART;VALUE=DATE:20220702
DTEND;VALUE=DATE:20220703
DTSTAMP:20260422T184119
CREATED:20211223T000853Z
LAST-MODIFIED:20211223T000853Z
UID:6708-1656720000-1656806399@hvgolfclub.com.au
SUMMARY:Monthly Medal
DESCRIPTION:
URL:https://hvgolfclub.com.au/event/monthly-medal-34/
CATEGORIES:Mens
END:VEVENT
BEGIN:VEVENT
DTSTART;VALUE=DATE:20220706
DTEND;VALUE=DATE:20220707
DTSTAMP:20260422T184119
CREATED:20211223T000925Z
LAST-MODIFIED:20211223T000925Z
UID:6712-1657065600-1657151999@hvgolfclub.com.au
SUMMARY:Stableford
DESCRIPTION:
URL:https://hvgolfclub.com.au/event/stableford-505/
CATEGORIES:Mens
END:VEVENT
BEGIN:VEVENT
DTSTART;VALUE=DATE:20220709
DTEND;VALUE=DATE:20220710
DTSTAMP:20260422T184119
CREATED:20211223T000940Z
LAST-MODIFIED:20211223T000940Z
UID:6714-1657324800-1657411199@hvgolfclub.com.au
SUMMARY:Stableford
DESCRIPTION:
URL:https://hvgolfclub.com.au/event/stableford-506/
CATEGORIES:Mens
END:VEVENT
BEGIN:VEVENT
DTSTART;VALUE=DATE:20220712
DTEND;VALUE=DATE:20220713
DTSTAMP:20260422T184119
CREATED:20211223T000956Z
LAST-MODIFIED:20211223T000956Z
UID:6716-1657584000-1657670399@hvgolfclub.com.au
SUMMARY:Ladies Stableford
DESCRIPTION:
URL:https://hvgolfclub.com.au/event/ladies-stableford-94/
CATEGORIES:Ladies
END:VEVENT
BEGIN:VEVENT
DTSTART;VALUE=DATE:20220713
DTEND;VALUE=DATE:20220714
DTSTAMP:20260422T184119
CREATED:20211223T001020Z
LAST-MODIFIED:20211223T001020Z
UID:6718-1657670400-1657756799@hvgolfclub.com.au
SUMMARY:Par
DESCRIPTION:
URL:https://hvgolfclub.com.au/event/par-20/
CATEGORIES:Mens
END:VEVENT
BEGIN:VEVENT
DTSTART;VALUE=DATE:20220715
DTEND;VALUE=DATE:20220716
DTSTAMP:20260422T184119
CREATED:20211223T000911Z
LAST-MODIFIED:20211223T000911Z
UID:6710-1657843200-1657929599@hvgolfclub.com.au
SUMMARY:Ladies 5th Monthly Medal
DESCRIPTION:
URL:https://hvgolfclub.com.au/event/ladies-5th-monthly-medal-2/
CATEGORIES:Ladies
END:VEVENT
BEGIN:VEVENT
DTSTART;VALUE=DATE:20220716
DTEND;VALUE=DATE:20220717
DTSTAMP:20260422T184119
CREATED:20211223T001035Z
LAST-MODIFIED:20211223T001035Z
UID:6720-1657929600-1658015999@hvgolfclub.com.au
SUMMARY:Stroke
DESCRIPTION:
URL:https://hvgolfclub.com.au/event/stroke-151/
CATEGORIES:Mens
END:VEVENT
BEGIN:VEVENT
DTSTART;VALUE=DATE:20220716
DTEND;VALUE=DATE:20220717
DTSTAMP:20260422T184119
CREATED:20211223T001050Z
LAST-MODIFIED:20211223T001050Z
UID:6722-1657929600-1658015999@hvgolfclub.com.au
SUMMARY:Highland Championships Bothwell
DESCRIPTION:
URL:https://hvgolfclub.com.au/event/highland-championships-bothwell/
END:VEVENT
BEGIN:VEVENT
DTSTART;VALUE=DATE:20220719
DTEND;VALUE=DATE:20220720
DTSTAMP:20260422T184119
CREATED:20211223T001109Z
LAST-MODIFIED:20211223T001109Z
UID:6724-1658188800-1658275199@hvgolfclub.com.au
SUMMARY:Ladies Eclectic
DESCRIPTION:
URL:https://hvgolfclub.com.au/event/ladies-eclectic-14/
CATEGORIES:Ladies
END:VEVENT
BEGIN:VEVENT
DTSTART;VALUE=DATE:20220720
DTEND;VALUE=DATE:20220721
DTSTAMP:20260422T184119
CREATED:20211223T001124Z
LAST-MODIFIED:20211223T001124Z
UID:6726-1658275200-1658361599@hvgolfclub.com.au
SUMMARY:Stableford
DESCRIPTION:
URL:https://hvgolfclub.com.au/event/stableford-507/
CATEGORIES:Mens
END:VEVENT
BEGIN:VEVENT
DTSTART;VALUE=DATE:20220723
DTEND;VALUE=DATE:20220724
DTSTAMP:20260422T184119
CREATED:20211223T001141Z
LAST-MODIFIED:20211223T001141Z
UID:6728-1658534400-1658620799@hvgolfclub.com.au
SUMMARY:Par
DESCRIPTION:
URL:https://hvgolfclub.com.au/event/par-21/
CATEGORIES:Mens
END:VEVENT
BEGIN:VEVENT
DTSTART;VALUE=DATE:20220726
DTEND;VALUE=DATE:20220727
DTSTAMP:20260422T184119
CREATED:20211223T001200Z
LAST-MODIFIED:20211223T001200Z
UID:6730-1658793600-1658879999@hvgolfclub.com.au
SUMMARY:Ladies Stableford (Geeveston ladies)
DESCRIPTION:
URL:https://hvgolfclub.com.au/event/ladies-stableford-geeveston-ladies-2/
CATEGORIES:Ladies
END:VEVENT
BEGIN:VEVENT
DTSTART;VALUE=DATE:20220727
DTEND;VALUE=DATE:20220728
DTSTAMP:20260422T184119
CREATED:20211223T001222Z
LAST-MODIFIED:20211223T001222Z
UID:6732-1658880000-1658966399@hvgolfclub.com.au
SUMMARY:Stroke
DESCRIPTION:
URL:https://hvgolfclub.com.au/event/stroke-152/
CATEGORIES:Mens
END:VEVENT
BEGIN:VEVENT
DTSTART;VALUE=DATE:20220728
DTEND;VALUE=DATE:20220729
DTSTAMP:20260422T184119
CREATED:20211223T001237Z
LAST-MODIFIED:20211223T001237Z
UID:6734-1658966400-1659052799@hvgolfclub.com.au
SUMMARY:Huon Vets
DESCRIPTION:
URL:https://hvgolfclub.com.au/event/huon-vets-27/
CATEGORIES:Mens
END:VEVENT
BEGIN:VEVENT
DTSTART;VALUE=DATE:20220730
DTEND;VALUE=DATE:20220731
DTSTAMP:20260422T184119
CREATED:20211223T001251Z
LAST-MODIFIED:20211223T001251Z
UID:6736-1659139200-1659225599@hvgolfclub.com.au
SUMMARY:Stableford
DESCRIPTION:
URL:https://hvgolfclub.com.au/event/stableford-508/
CATEGORIES:Mens
END:VEVENT
END:VCALENDAR